Package: systemPipeR Version: 2.10.0 Command: /Library/Frameworks/R.framework/Resources/bin/R CMD build --keep-empty-dirs --no-resave-data systemPipeR StartedAt: 2024-06-09 18:23:43 -0400 (Sun, 09 Jun 2024) EndedAt: 2024-06-09 18:25:32 -0400 (Sun, 09 Jun 2024) EllapsedTime: 109.0 seconds RetCode: 0 Status: OK PackageFile: systemPipeR_2.10.0.tar.gz PackageFileSize: 7.096 MiB