Package: systemPipeR Version: 2.10.0 Command: /Library/Frameworks/R.framework/Resources/bin/R CMD check --install=check:systemPipeR.install-out.txt --library=/Library/Frameworks/R.framework/Resources/library --no-vignettes --timings systemPipeR_2.10.0.tar.gz StartedAt: 2024-06-11 07:47:51 -0400 (Tue, 11 Jun 2024) EndedAt: 2024-06-11 07:58:09 -0400 (Tue, 11 Jun 2024) EllapsedTime: 617.4 seconds RetCode: 0 Status: OK CheckDir: systemPipeR.Rcheck Warnings: 0