Package: systemPipeR Version: 2.10.0 Command: /Library/Frameworks/R.framework/Resources/bin/R CMD build --keep-empty-dirs --no-resave-data systemPipeR StartedAt: 2024-10-17 10:29:33 -0400 (Thu, 17 Oct 2024) EndedAt: 2024-10-17 10:31:31 -0400 (Thu, 17 Oct 2024) EllapsedTime: 118.0 seconds RetCode: 0 Status: OK PackageFile: systemPipeR_2.10.0.tar.gz PackageFileSize: 7.097 MiB