Package: systemPipeR Version: 2.10.0 Command: rm -rf systemPipeR.buildbin-libdir && mkdir systemPipeR.buildbin-libdir && /Users/biocbuild/BBS/utils/build-universal.sh systemPipeR_2.10.0.tar.gz /Library/Frameworks/R.framework/Resources/bin/R systemPipeR.buildbin-libdir StartedAt: 2024-10-15 20:34:11 -0400 (Tue, 15 Oct 2024) EndedAt: 2024-10-15 20:35:19 -0400 (Tue, 15 Oct 2024) EllapsedTime: 67.9 seconds RetCode: 0 Status: OK PackageFile: systemPipeR_2.10.0.tgz PackageFileSize: 6.327 MiB