Package: syntenet Version: 1.6.1 Command: chmod a+r syntenet -R && E:\biocbuild\bbs-3.19-bioc\R\bin\R.exe CMD build --keep-empty-dirs --no-resave-data syntenet StartedAt: 2024-10-16 22:17:05 -0400 (Wed, 16 Oct 2024) EndedAt: 2024-10-16 22:19:18 -0400 (Wed, 16 Oct 2024) EllapsedTime: 133.4 seconds RetCode: 0 Status: OK PackageFile: syntenet_1.6.1.tar.gz PackageFileSize: 2.113 MiB