Package: syntenet Version: 1.6.1 Command: rm -rf syntenet.buildbin-libdir && mkdir syntenet.buildbin-libdir && E:\biocbuild\bbs-3.19-bioc\R\bin\R.exe CMD INSTALL --build --library=syntenet.buildbin-libdir syntenet_1.6.1.tar.gz StartedAt: 2024-10-17 08:45:27 -0400 (Thu, 17 Oct 2024) EndedAt: 2024-10-17 08:46:35 -0400 (Thu, 17 Oct 2024) EllapsedTime: 68.2 seconds RetCode: 0 Status: OK PackageFile: syntenet_1.6.1.zip PackageFileSize: 2.712 MiB