Package: syntenet Version: 1.6.1 Command: /home/biocbuild/bbs-3.19-bioc/R/bin/R CMD INSTALL syntenet StartedAt: 2024-10-16 16:25:14 -0400 (Wed, 16 Oct 2024) EndedAt: 2024-10-16 16:26:12 -0400 (Wed, 16 Oct 2024) EllapsedTime: 58.0 seconds RetCode: 0 Status: OK