Package: syntenet Version: 1.6.1 Command: /Library/Frameworks/R.framework/Resources/bin/R CMD build --keep-empty-dirs --no-resave-data syntenet StartedAt: 2024-10-16 23:52:43 -0400 (Wed, 16 Oct 2024) EndedAt: 2024-10-16 23:56:30 -0400 (Wed, 16 Oct 2024) EllapsedTime: 226.6 seconds RetCode: 0 Status: OK PackageFile: syntenet_1.6.1.tar.gz PackageFileSize: 2.816 MiB