Package: synlet Version: 2.4.0 Command: F:\biocbuild\bbs-3.19-bioc\R\bin\R.exe CMD INSTALL synlet StartedAt: 2024-06-26 15:55:16 -0400 (Wed, 26 Jun 2024) EndedAt: 2024-06-26 15:55:26 -0400 (Wed, 26 Jun 2024) EllapsedTime: 10.5 seconds RetCode: 0 Status: OK