Package: synlet Version: 2.4.0 Command: chmod a+r synlet -R && F:\biocbuild\bbs-3.19-bioc\R\bin\R.exe CMD build --keep-empty-dirs --no-resave-data synlet StartedAt: 2024-06-26 22:18:30 -0400 (Wed, 26 Jun 2024) EndedAt: 2024-06-26 22:19:08 -0400 (Wed, 26 Jun 2024) EllapsedTime: 37.9 seconds RetCode: 0 Status: OK PackageFile: synlet_2.4.0.tar.gz PackageFileSize: 608.2 KiB