Package: synlet Version: 2.4.0 Command: /home/biocbuild/bbs-3.19-bioc/R/bin/R CMD build --keep-empty-dirs --no-resave-data synlet StartedAt: 2024-10-16 21:06:53 -0400 (Wed, 16 Oct 2024) EndedAt: 2024-10-16 21:07:17 -0400 (Wed, 16 Oct 2024) EllapsedTime: 24.0 seconds RetCode: 0 Status: OK PackageFile: synlet_2.4.0.tar.gz PackageFileSize: 1.128 MiB