Package: synlet Version: 2.4.0 Command: /Library/Frameworks/R.framework/Resources/bin/R CMD build --keep-empty-dirs --no-resave-data synlet StartedAt: 2024-10-16 23:52:11 -0400 (Wed, 16 Oct 2024) EndedAt: 2024-10-16 23:53:11 -0400 (Wed, 16 Oct 2024) EllapsedTime: 60.6 seconds RetCode: 0 Status: OK PackageFile: synlet_2.4.0.tar.gz PackageFileSize: 1.384 MiB