Package: synlet Version: 2.4.0 Command: /Library/Frameworks/R.framework/Resources/bin/R CMD build --keep-empty-dirs --no-resave-data synlet StartedAt: 2024-06-09 18:23:40 -0400 (Sun, 09 Jun 2024) EndedAt: 2024-06-09 18:24:05 -0400 (Sun, 09 Jun 2024) EllapsedTime: 24.7 seconds RetCode: 0 Status: OK PackageFile: synlet_2.4.0.tar.gz PackageFileSize: 1.385 MiB