Package: synlet Version: 2.4.0 Command: rm -rf synlet.buildbin-libdir && mkdir synlet.buildbin-libdir && /Users/biocbuild/BBS/utils/build-universal.sh synlet_2.4.0.tar.gz /Library/Frameworks/R.framework/Resources/bin/R synlet.buildbin-libdir StartedAt: 2024-06-10 00:42:59 -0400 (Mon, 10 Jun 2024) EndedAt: 2024-06-10 00:43:08 -0400 (Mon, 10 Jun 2024) EllapsedTime: 9.1 seconds RetCode: 0 Status: OK PackageFile: synlet_2.4.0.tgz PackageFileSize: 1.433 MiB