Package: synlet Version: 2.4.0 Command: /home/biocbuild/R/R-beta-2024-04-15_r86425/bin/R CMD INSTALL synlet StartedAt: 2024-05-08 20:16:31 -0000 (Wed, 08 May 2024) EndedAt: 2024-05-08 20:16:37 -0000 (Wed, 08 May 2024) EllapsedTime: 6.4 seconds RetCode: 0 Status: OK