Package: synlet Version: 2.4.0 Command: /home/biocbuild/R/R-beta-2024-04-15_r86425/bin/R CMD build --keep-empty-dirs --no-resave-data synlet StartedAt: 2024-05-09 04:01:50 -0000 (Thu, 09 May 2024) EndedAt: 2024-05-09 04:02:33 -0000 (Thu, 09 May 2024) EllapsedTime: 43.1 seconds RetCode: 0 Status: OK PackageFile: synlet_2.4.0.tar.gz PackageFileSize: 909.9 KiB