Package: synlet Version: 2.4.0 Command: rm -rf synlet.buildbin-libdir && mkdir synlet.buildbin-libdir && /Users/biocbuild/BBS/utils/build-universal.sh synlet_2.4.0.tar.gz /Library/Frameworks/R.framework/Resources/bin/R synlet.buildbin-libdir StartedAt: 2024-10-15 20:34:00 -0400 (Tue, 15 Oct 2024) EndedAt: 2024-10-15 20:34:08 -0400 (Tue, 15 Oct 2024) EllapsedTime: 8.0 seconds RetCode: 0 Status: OK PackageFile: synlet_2.4.0.tgz PackageFileSize: 1.432 MiB