Package: synergyfinder Version: 3.12.0 Command: F:\biocbuild\bbs-3.19-bioc\R\bin\R.exe CMD check --no-multiarch --install=check:synergyfinder.install-out.txt --library=F:\biocbuild\bbs-3.19-bioc\R\library --no-vignettes --timings synergyfinder_3.12.0.tar.gz StartedAt: 2024-06-27 06:48:45 -0400 (Thu, 27 Jun 2024) EndedAt: 2024-06-27 06:50:48 -0400 (Thu, 27 Jun 2024) EllapsedTime: 123.4 seconds RetCode: 0 Status: WARNINGS CheckDir: synergyfinder.Rcheck Warnings: 1