Package: synergyfinder Version: 3.12.0 Command: chmod a+r synergyfinder -R && F:\biocbuild\bbs-3.19-bioc\R\bin\R.exe CMD build --keep-empty-dirs --no-resave-data synergyfinder StartedAt: 2024-06-26 22:18:21 -0400 (Wed, 26 Jun 2024) EndedAt: 2024-06-26 22:20:19 -0400 (Wed, 26 Jun 2024) EllapsedTime: 117.9 seconds RetCode: 0 Status: OK PackageFile: synergyfinder_3.12.0.tar.gz PackageFileSize: 6.044 MiB