Package: synergyfinder Version: 3.12.0 Command: /home/biocbuild/bbs-3.19-bioc/R/bin/R CMD INSTALL synergyfinder StartedAt: 2024-10-16 16:31:08 -0400 (Wed, 16 Oct 2024) EndedAt: 2024-10-16 16:31:14 -0400 (Wed, 16 Oct 2024) EllapsedTime: 6.3 seconds RetCode: 0 Status: OK