Package: synergyfinder Version: 3.12.0 Command: /Library/Frameworks/R.framework/Resources/bin/R CMD INSTALL synergyfinder StartedAt: 2024-10-16 16:21:51 -0400 (Wed, 16 Oct 2024) EndedAt: 2024-10-16 16:22:07 -0400 (Wed, 16 Oct 2024) EllapsedTime: 15.8 seconds RetCode: 0 Status: OK