Package: synergyfinder Version: 3.12.0 Command: /Library/Frameworks/R.framework/Resources/bin/R CMD build --keep-empty-dirs --no-resave-data synergyfinder StartedAt: 2024-10-16 23:51:52 -0400 (Wed, 16 Oct 2024) EndedAt: 2024-10-16 23:56:36 -0400 (Wed, 16 Oct 2024) EllapsedTime: 284.2 seconds RetCode: 0 Status: OK PackageFile: synergyfinder_3.12.0.tar.gz PackageFileSize: 6.544 MiB