Package: synergyfinder Version: 3.12.0 Command: rm -rf synergyfinder.buildbin-libdir && mkdir synergyfinder.buildbin-libdir && /Users/biocbuild/BBS/utils/build-universal.sh synergyfinder_3.12.0.tar.gz /Library/Frameworks/R.framework/Resources/bin/R synergyfinder.buildbin-libdir StartedAt: 2024-10-17 17:19:40 -0400 (Thu, 17 Oct 2024) EndedAt: 2024-10-17 17:20:01 -0400 (Thu, 17 Oct 2024) EllapsedTime: 20.5 seconds RetCode: 0 Status: OK PackageFile: synergyfinder_3.12.0.tgz PackageFileSize: 3.884 MiB