Package: synergyfinder Version: 3.12.0 Command: /Library/Frameworks/R.framework/Resources/bin/R CMD INSTALL synergyfinder StartedAt: 2024-10-16 18:01:31 -0400 (Wed, 16 Oct 2024) EndedAt: 2024-10-16 18:01:40 -0400 (Wed, 16 Oct 2024) EllapsedTime: 8.4 seconds RetCode: 0 Status: OK