Package: synapter Version: 2.28.0 Command: E:\biocbuild\bbs-3.19-bioc\R\bin\R.exe CMD INSTALL synapter StartedAt: 2024-10-16 17:03:50 -0400 (Wed, 16 Oct 2024) EndedAt: 2024-10-16 17:05:34 -0400 (Wed, 16 Oct 2024) EllapsedTime: 103.5 seconds RetCode: 0 Status: OK