Package: synapter Version: 2.28.0 Command: rm -rf synapter.buildbin-libdir && mkdir synapter.buildbin-libdir && E:\biocbuild\bbs-3.19-bioc\R\bin\R.exe CMD INSTALL --build --library=synapter.buildbin-libdir synapter_2.28.0.tar.gz StartedAt: 2024-10-17 08:45:18 -0400 (Thu, 17 Oct 2024) EndedAt: 2024-10-17 08:47:10 -0400 (Thu, 17 Oct 2024) EllapsedTime: 111.8 seconds RetCode: 0 Status: OK PackageFile: synapter_2.28.0.zip PackageFileSize: 3.622 MiB