Package: synapter Version: 2.28.0 Command: F:\biocbuild\bbs-3.19-bioc\R\bin\R.exe CMD check --no-multiarch --install=check:synapter.install-out.txt --library=F:\biocbuild\bbs-3.19-bioc\R\library --no-vignettes --timings synapter_2.28.0.tar.gz StartedAt: 2024-06-27 06:48:42 -0400 (Thu, 27 Jun 2024) EndedAt: 2024-06-27 06:55:34 -0400 (Thu, 27 Jun 2024) EllapsedTime: 411.6 seconds RetCode: 0 Status: OK CheckDir: synapter.Rcheck Warnings: 0