Package: synapter Version: 2.28.0 Command: /home/biocbuild/bbs-3.19-bioc/R/bin/R CMD INSTALL synapter StartedAt: 2024-10-16 16:32:47 -0400 (Wed, 16 Oct 2024) EndedAt: 2024-10-16 16:33:43 -0400 (Wed, 16 Oct 2024) EllapsedTime: 56.5 seconds RetCode: 0 Status: OK