Package: synapter Version: 2.28.0 Command: /home/biocbuild/R/R-beta-2024-04-15_r86425/bin/R CMD build --keep-empty-dirs --no-resave-data synapter StartedAt: 2024-05-09 04:01:10 -0000 (Thu, 09 May 2024) EndedAt: 2024-05-09 04:10:34 -0000 (Thu, 09 May 2024) EllapsedTime: 563.8 seconds RetCode: 0 Status: OK PackageFile: synapter_2.28.0.tar.gz PackageFileSize: 3.295 MiB