Package: synapter Version: 2.28.0 Command: /Library/Frameworks/R.framework/Resources/bin/R CMD INSTALL synapter StartedAt: 2024-06-09 17:03:13 -0400 (Sun, 09 Jun 2024) EndedAt: 2024-06-09 17:04:38 -0400 (Sun, 09 Jun 2024) EllapsedTime: 84.8 seconds RetCode: 0 Status: OK