Package: synapter Version: 2.28.0 Command: /Library/Frameworks/R.framework/Resources/bin/R CMD build --keep-empty-dirs --no-resave-data synapter StartedAt: 2024-06-10 05:46:19 -0400 (Mon, 10 Jun 2024) EndedAt: 2024-06-10 05:55:12 -0400 (Mon, 10 Jun 2024) EllapsedTime: 533.0 seconds RetCode: 0 Status: OK PackageFile: synapter_2.28.0.tar.gz PackageFileSize: 4.708 MiB