Package: synapter Version: 2.28.0 Command: /Library/Frameworks/R.framework/Resources/bin/R CMD check --install=check:synapter.install-out.txt --library=/Library/Frameworks/R.framework/Resources/library --no-vignettes --timings synapter_2.28.0.tar.gz StartedAt: 2024-10-18 14:37:22 -0400 (Fri, 18 Oct 2024) EndedAt: 2024-10-18 14:45:15 -0400 (Fri, 18 Oct 2024) EllapsedTime: 472.6 seconds RetCode: 0 Status: OK CheckDir: synapter.Rcheck Warnings: 0