Package: synapter Version: 2.28.0 Command: rm -rf synapter.buildbin-libdir && mkdir synapter.buildbin-libdir && /Users/biocbuild/BBS/utils/build-universal.sh synapter_2.28.0.tar.gz /Library/Frameworks/R.framework/Resources/bin/R synapter.buildbin-libdir StartedAt: 2024-10-15 20:33:47 -0400 (Tue, 15 Oct 2024) EndedAt: 2024-10-15 20:35:11 -0400 (Tue, 15 Oct 2024) EllapsedTime: 84.4 seconds RetCode: 0 Status: OK PackageFile: synapter_2.28.0.tgz PackageFileSize: 5.48 MiB