Package: synapsis Version: 1.10.0 Command: rm -rf synapsis.buildbin-libdir && mkdir synapsis.buildbin-libdir && E:\biocbuild\bbs-3.19-bioc\R\bin\R.exe CMD INSTALL --build --library=synapsis.buildbin-libdir synapsis_1.10.0.tar.gz StartedAt: 2024-10-17 08:45:16 -0400 (Thu, 17 Oct 2024) EndedAt: 2024-10-17 08:45:48 -0400 (Thu, 17 Oct 2024) EllapsedTime: 32.5 seconds RetCode: 0 Status: OK PackageFile: synapsis_1.10.0.zip PackageFileSize: 3.786 MiB