Package: synapsis Version: 1.10.0 Command: chmod a+r synapsis -R && F:\biocbuild\bbs-3.19-bioc\R\bin\R.exe CMD build --keep-empty-dirs --no-resave-data synapsis StartedAt: 2024-06-26 22:18:11 -0400 (Wed, 26 Jun 2024) EndedAt: 2024-06-26 22:18:59 -0400 (Wed, 26 Jun 2024) EllapsedTime: 48.0 seconds RetCode: 0 Status: OK PackageFile: synapsis_1.10.0.tar.gz PackageFileSize: 3.725 MiB