Package: synapsis Version: 1.10.0 Command: /Library/Frameworks/R.framework/Resources/bin/R CMD build --keep-empty-dirs --no-resave-data synapsis StartedAt: 2024-10-16 23:51:50 -0400 (Wed, 16 Oct 2024) EndedAt: 2024-10-16 23:52:49 -0400 (Wed, 16 Oct 2024) EllapsedTime: 59.7 seconds RetCode: 0 Status: OK PackageFile: synapsis_1.10.0.tar.gz PackageFileSize: 3.532 MiB