Package: switchde Version: 1.30.0 Command: rm -rf switchde.buildbin-libdir && mkdir switchde.buildbin-libdir && /Users/biocbuild/BBS/utils/build-universal.sh switchde_1.30.0.tar.gz /Library/Frameworks/R.framework/Resources/bin/R switchde.buildbin-libdir StartedAt: 2024-10-15 20:33:39 -0400 (Tue, 15 Oct 2024) EndedAt: 2024-10-15 20:34:14 -0400 (Tue, 15 Oct 2024) EllapsedTime: 34.8 seconds RetCode: 0 Status: OK PackageFile: switchde_1.30.0.tgz PackageFileSize: 1.072 MiB