Package: switchBox Version: 1.40.0 Command: chmod a+r switchBox -R && E:\biocbuild\bbs-3.19-bioc\R\bin\R.exe CMD build --keep-empty-dirs --no-resave-data switchBox StartedAt: 2024-10-16 22:16:09 -0400 (Wed, 16 Oct 2024) EndedAt: 2024-10-16 22:16:39 -0400 (Wed, 16 Oct 2024) EllapsedTime: 30.0 seconds RetCode: 0 Status: OK PackageFile: switchBox_1.40.0.tar.gz PackageFileSize: 471.9 KiB