Package: switchBox Version: 1.40.0 Command: rm -rf switchBox.buildbin-libdir && mkdir switchBox.buildbin-libdir && E:\biocbuild\bbs-3.19-bioc\R\bin\R.exe CMD INSTALL --build --library=switchBox.buildbin-libdir switchBox_1.40.0.tar.gz StartedAt: 2024-10-17 08:45:09 -0400 (Thu, 17 Oct 2024) EndedAt: 2024-10-17 08:45:34 -0400 (Thu, 17 Oct 2024) EllapsedTime: 25.1 seconds RetCode: 0 Status: OK PackageFile: switchBox_1.40.0.zip PackageFileSize: 650.8 KiB