Package: switchBox Version: 1.40.0 Command: /home/biocbuild/bbs-3.19-bioc/R/bin/R CMD build --keep-empty-dirs --no-resave-data switchBox StartedAt: 2024-10-16 21:06:17 -0400 (Wed, 16 Oct 2024) EndedAt: 2024-10-16 21:06:26 -0400 (Wed, 16 Oct 2024) EllapsedTime: 9.0 seconds RetCode: 0 Status: OK PackageFile: switchBox_1.40.0.tar.gz PackageFileSize: 472.4 KiB