Package: switchBox Version: 1.40.0 Command: /Library/Frameworks/R.framework/Resources/bin/R CMD build --keep-empty-dirs --no-resave-data switchBox StartedAt: 2024-10-16 23:51:33 -0400 (Wed, 16 Oct 2024) EndedAt: 2024-10-16 23:52:11 -0400 (Wed, 16 Oct 2024) EllapsedTime: 38.0 seconds RetCode: 0 Status: OK PackageFile: switchBox_1.40.0.tar.gz PackageFileSize: 470.7 KiB