Package: switchBox Version: 1.40.0 Command: rm -rf switchBox.buildbin-libdir && mkdir switchBox.buildbin-libdir && /Users/biocbuild/BBS/utils/build-universal.sh switchBox_1.40.0.tar.gz /Library/Frameworks/R.framework/Resources/bin/R switchBox.buildbin-libdir StartedAt: 2024-10-17 17:19:30 -0400 (Thu, 17 Oct 2024) EndedAt: 2024-10-17 17:19:44 -0400 (Thu, 17 Oct 2024) EllapsedTime: 14.0 seconds RetCode: 0 Status: OK PackageFile: switchBox_1.40.0.tgz PackageFileSize: 637.2 KiB