Package: switchBox Version: 1.40.0 Command: /Library/Frameworks/R.framework/Resources/bin/R CMD build --keep-empty-dirs --no-resave-data switchBox StartedAt: 2024-10-17 10:26:49 -0400 (Thu, 17 Oct 2024) EndedAt: 2024-10-17 10:27:08 -0400 (Thu, 17 Oct 2024) EllapsedTime: 18.2 seconds RetCode: 0 Status: OK PackageFile: switchBox_1.40.0.tar.gz PackageFileSize: 470.8 KiB