Package: swfdr Version: 1.30.0 Command: /home/biocbuild/R/R-beta-2024-04-15_r86425/bin/R CMD build --keep-empty-dirs --no-resave-data swfdr StartedAt: 2024-05-09 04:00:48 -0000 (Thu, 09 May 2024) EndedAt: 2024-05-09 04:01:59 -0000 (Thu, 09 May 2024) EllapsedTime: 71.1 seconds RetCode: 0 Status: OK PackageFile: swfdr_1.30.0.tar.gz PackageFileSize: 1.185 MiB