Package: swfdr Version: 1.30.0 Command: /Library/Frameworks/R.framework/Resources/bin/R CMD check --install=check:swfdr.install-out.txt --library=/Library/Frameworks/R.framework/Resources/library --no-vignettes --timings swfdr_1.30.0.tar.gz StartedAt: 2024-10-18 14:35:51 -0400 (Fri, 18 Oct 2024) EndedAt: 2024-10-18 14:36:31 -0400 (Fri, 18 Oct 2024) EllapsedTime: 40.2 seconds RetCode: 0 Status: WARNINGS CheckDir: swfdr.Rcheck Warnings: 1