Package: swfdr Version: 1.30.0 Maintainer: Simina M. Boca , Jeffrey T. Leek MaintainerEmail: jtleek at gmail.com git_url: https://git.bioconductor.org/packages/swfdr git_branch: RELEASE_3_19 git_last_commit: 86bedb2 git_last_commit_date: 2024-04-30 10:56:21 -0400 (Tue, 30 Apr 2024)