Package: svaRetro Version: 1.10.0 Command: chmod a+r svaRetro -R && F:\biocbuild\bbs-3.19-bioc\R\bin\R.exe CMD build --keep-empty-dirs --no-resave-data svaRetro StartedAt: 2024-06-26 22:17:27 -0400 (Wed, 26 Jun 2024) EndedAt: 2024-06-26 22:19:00 -0400 (Wed, 26 Jun 2024) EllapsedTime: 93.7 seconds RetCode: 0 Status: OK PackageFile: svaRetro_1.10.0.tar.gz PackageFileSize: 1.492 MiB