Package: svaRetro Version: 1.10.0 Command: /home/biocbuild/R/R-beta-2024-04-15_r86425/bin/R CMD build --keep-empty-dirs --no-resave-data svaRetro StartedAt: 2024-05-09 04:00:06 -0000 (Thu, 09 May 2024) EndedAt: 2024-05-09 04:01:50 -0000 (Thu, 09 May 2024) EllapsedTime: 104.1 seconds RetCode: 0 Status: OK PackageFile: svaRetro_1.10.0.tar.gz PackageFileSize: 1.553 MiB