Package: svaNUMT Version: 1.10.0 Command: rm -rf svaNUMT.buildbin-libdir && mkdir svaNUMT.buildbin-libdir && E:\biocbuild\bbs-3.19-bioc\R\bin\R.exe CMD INSTALL --build --library=svaNUMT.buildbin-libdir svaNUMT_1.10.0.tar.gz StartedAt: 2024-10-17 08:44:57 -0400 (Thu, 17 Oct 2024) EndedAt: 2024-10-17 08:45:42 -0400 (Thu, 17 Oct 2024) EllapsedTime: 45.1 seconds RetCode: 0 Status: OK PackageFile: svaNUMT_1.10.0.zip PackageFileSize: 632.1 KiB