Package: sva Version: 3.52.0 Command: chmod a+r sva -R && F:\biocbuild\bbs-3.19-bioc\R\bin\R.exe CMD build --keep-empty-dirs --no-resave-data sva StartedAt: 2024-06-26 22:17:13 -0400 (Wed, 26 Jun 2024) EndedAt: 2024-06-26 22:18:33 -0400 (Wed, 26 Jun 2024) EllapsedTime: 80.1 seconds RetCode: 0 Status: OK PackageFile: sva_3.52.0.tar.gz PackageFileSize: 443.6 KiB